BEGIN:VCALENDAR
VERSION:2.0
PRODID:-//Downhill Only Ski Club - ECPv6.15.20//NONSGML v1.0//EN
CALSCALE:GREGORIAN
METHOD:PUBLISH
X-WR-CALNAME:Downhill Only Ski Club
X-ORIGINAL-URL:https://downhillonly.com
X-WR-CALDESC:Events for Downhill Only Ski Club
REFRESH-INTERVAL;VALUE=DURATION:PT1H
X-Robots-Tag:noindex
X-PUBLISHED-TTL:PT1H
BEGIN:VTIMEZONE
TZID:UTC
BEGIN:STANDARD
TZOFFSETFROM:+0000
TZOFFSETTO:+0000
TZNAME:UTC
DTSTART:20240101T000000
END:STANDARD
END:VTIMEZONE
BEGIN:VEVENT
DTSTART;TZID=UTC:20250330T080000
DTEND;TZID=UTC:20250404T170000
DTSTAMP:20260419T175134
CREATED:20241212T222216Z
LAST-MODIFIED:20241212T222728Z
UID:10003558-1743321600-1743786000@downhillonly.com
SUMMARY:Coggins and Eagles
DESCRIPTION:Coggins runs Sunday to Friday (Flexible at Christmas this year) and is 400 CHF/week (up to 6 consecutive days) paid at the beginning of the week \n90 CHF/day if booked on a day by day basis. \nOne parent must become a member of the club. \nLunch is charged at 90 CHF based on six lunches at 15 CHF. Unused lunches can be refunded. A little change in their pockets is useful for sweeties etc.
URL:https://downhillonly.com/event/coggins-and-eagles/2025-03-30/
LOCATION:Mannlichen Cable Car\, Mannlichen Cable Car\, wengen\, 323\, Switzerland
CATEGORIES:DHO Coggins, Eagles & Performance Courses
ATTACH;FMTTYPE=image/jpeg:https://downhillonly.com/wp-content/uploads/2019/06/new-coggins-header.jpg
ORGANIZER;CN="Coggins%2C Eagles and Development Courses  Andrew Davies":MAILTO:coggins@downhillonly.com
END:VEVENT
BEGIN:VEVENT
DTSTART;TZID=UTC:20250403T083000
DTEND;TZID=UTC:20250403T160000
DTSTAMP:20260419T175134
CREATED:20241214T162045Z
LAST-MODIFIED:20241214T162045Z
UID:10003573-1743669000-1743696000@downhillonly.com
SUMMARY:Coggins Easter Spring Combi
DESCRIPTION:Details to Follow
URL:https://downhillonly.com/event/coggins-easter-spring-combi/
LOCATION:Mannlichen Cable Car\, Mannlichen Cable Car\, wengen\, 323\, Switzerland
CATEGORIES:DHO Coggins, Eagles & Performance Courses
ATTACH;FMTTYPE=image/jpeg:https://downhillonly.com/wp-content/uploads/2019/09/British-Schoolboys-International-Races-4-1.jpg
ORGANIZER;CN="Coggins%2C Eagles and Development Courses  Andrew Davies":MAILTO:coggins@downhillonly.com
END:VEVENT
BEGIN:VEVENT
DTSTART;TZID=UTC:20250403T084000
DTEND;TZID=UTC:20250403T160000
DTSTAMP:20260419T175134
CREATED:20240628T142052Z
LAST-MODIFIED:20241219T210614Z
UID:10002054-1743669600-1743696000@downhillonly.com
SUMMARY:DHO Race Day
DESCRIPTION:We try to run some sort of race or maybe a treasure hunt or other challenge on Thursdays check Wednesday night in the clubroom for details. At the Start and end of the season conditions might not be suitable for racing \nIf there’s no race then you will be able to ski with our DHO rep just like a normal day
URL:https://downhillonly.com/event/dho-race-day/2025-04-03/
LOCATION:Mannlichen Cable Car\, Mannlichen Cable Car\, wengen\, 323\, Switzerland
CATEGORIES:DHO Club Races,DHO Led Skiing
ATTACH;FMTTYPE=image/jpeg:https://downhillonly.com/wp-content/uploads/2019/08/Race-Thursday.jpg
END:VEVENT
BEGIN:VEVENT
DTSTART;TZID=UTC:20250403T180000
DTEND;TZID=UTC:20250403T193000
DTSTAMP:20260419T175134
CREATED:20241211T135933Z
LAST-MODIFIED:20250417T163625Z
UID:10002747-1743703200-1743708600@downhillonly.com
SUMMARY:Club Room Open
DESCRIPTION:During the ski season the Clubroom is open every day from 18:00h until 19:30h\, last orders for drinks at 19:15h. \nThe bar relies on volunteers – sign up for an evening at the bar! \nThe Clubroom’s internet is available to members. \nThe Clubroom can be made available during the day by prior arrangement with the Wengen Manager.
URL:https://downhillonly.com/event/club-room-open/2025-04-03/
LOCATION:DHO Club Room\, Downhill Only Club\, Wengen\, BE\, 3823\, Switzerland
CATEGORIES:DHO Social
ATTACH;FMTTYPE=image/jpeg:https://downhillonly.com/wp-content/uploads/2019/09/Clubroom-Exterior-Header.jpg
END:VEVENT
END:VCALENDAR