BEGIN:VCALENDAR
VERSION:2.0
PRODID:-//Downhill Only Ski Club - ECPv6.15.20//NONSGML v1.0//EN
CALSCALE:GREGORIAN
METHOD:PUBLISH
X-WR-CALNAME:Downhill Only Ski Club
X-ORIGINAL-URL:https://downhillonly.com
X-WR-CALDESC:Events for Downhill Only Ski Club
REFRESH-INTERVAL;VALUE=DURATION:PT1H
X-Robots-Tag:noindex
X-PUBLISHED-TTL:PT1H
BEGIN:VTIMEZONE
TZID:UTC
BEGIN:STANDARD
TZOFFSETFROM:+0000
TZOFFSETTO:+0000
TZNAME:UTC
DTSTART:20240101T000000
END:STANDARD
END:VTIMEZONE
BEGIN:VEVENT
DTSTART;TZID=UTC:20250410T084000
DTEND;TZID=UTC:20250410T160000
DTSTAMP:20260419T175134
CREATED:20241214T161833Z
LAST-MODIFIED:20241214T161833Z
UID:10003572-1744274400-1744300800@downhillonly.com
SUMMARY:Toblerone Relay
DESCRIPTION:The Toblerone Relay – details to be confirmed \nPlease check in the clubroom for further details the night before
URL:https://downhillonly.com/event/toblerone-relay/
LOCATION:Lauberhorn Start Hut & Bar\, Lauberhorn Start Haus\, Wengen\, 3823\, Switzerland
CATEGORIES:DHO Club Races
ATTACH;FMTTYPE=image/jpeg:https://downhillonly.com/wp-content/uploads/2019/09/British-Schoolboys-International-Races-4-1.jpg
END:VEVENT
BEGIN:VEVENT
DTSTART;TZID=UTC:20250410T180000
DTEND;TZID=UTC:20250410T193000
DTSTAMP:20260419T175134
CREATED:20241211T135933Z
LAST-MODIFIED:20250417T163625Z
UID:10002753-1744308000-1744313400@downhillonly.com
SUMMARY:Club Room Open
DESCRIPTION:During the ski season the Clubroom is open every day from 18:00h until 19:30h\, last orders for drinks at 19:15h. \nThe bar relies on volunteers – sign up for an evening at the bar! \nThe Clubroom’s internet is available to members. \nThe Clubroom can be made available during the day by prior arrangement with the Wengen Manager.
URL:https://downhillonly.com/event/club-room-open/2025-04-10/
LOCATION:DHO Club Room\, Downhill Only Club\, Wengen\, BE\, 3823\, Switzerland
CATEGORIES:DHO Social
ATTACH;FMTTYPE=image/jpeg:https://downhillonly.com/wp-content/uploads/2019/09/Clubroom-Exterior-Header.jpg
END:VEVENT
END:VCALENDAR