BEGIN:VCALENDAR
VERSION:2.0
PRODID:-//Downhill Only Ski Club - ECPv6.15.20//NONSGML v1.0//EN
CALSCALE:GREGORIAN
METHOD:PUBLISH
X-ORIGINAL-URL:https://downhillonly.com
X-WR-CALDESC:Events for Downhill Only Ski Club
REFRESH-INTERVAL;VALUE=DURATION:PT1H
X-Robots-Tag:noindex
X-PUBLISHED-TTL:PT1H
BEGIN:VTIMEZONE
TZID:UTC
BEGIN:STANDARD
TZOFFSETFROM:+0000
TZOFFSETTO:+0000
TZNAME:UTC
DTSTART:20240101T000000
END:STANDARD
END:VTIMEZONE
BEGIN:VEVENT
DTSTART;TZID=UTC:20250804T093000
DTEND;TZID=UTC:20250804T170000
DTSTAMP:20260416T214811
CREATED:20250627T144301Z
LAST-MODIFIED:20250627T144301Z
UID:10003597-1754299800-1754326800@downhillonly.com
SUMMARY:Legend Walk
DESCRIPTION:Close to the mountain spirits !\nfrom Kleine Scheidegg via the legendary Hundschopf to Wengen\nDid you know how Eiger\, Mönch and Jungfrau were created? Have you heard about\nthe Kriegsloch or the mysterious lights in the Hanneggscheune?\nJoseph will tell you stories about these and other mysterious events on this hike.\nThe hiking route (5.5 km) corresponds to a moderately difficult variant. Good hiking equipment\n(maybe hiking sticks) is recommended; the route partly follows small paths. Lunch from the\nrucksack (participants bring their own package).\nWAB tickets / single ascent Wengen – Kleine Scheidegg and single return Allmend – Wengen\nare purchased by the participants themselves.\nParticipation fee: CHF 30 per adult / CHF 10 per child (up to 16 years of age) \n\nIt is suggested that you take a packed lunch and plenty of water.\n\nJoseph has advised that the walk is mainly downhill\, at the upper part (upon the Hundschopf) on small paths. It is suitable for all people that like hiking\, including children. We shall walk on a rather slow pace\, we stop several times for telling and eating. The focus is on having a good time and not on performing high mountain sports.\n\nDetails to be confirmed
URL:https://downhillonly.com/event/legend-walk/
LOCATION:DHO club room steps\, Downhill Only Ski Club\, Wengen\, 3823\, Switzerland
CATEGORIES:DHO Social
ATTACH;FMTTYPE=image/jpeg:https://downhillonly.com/wp-content/uploads/2021/01/DHO-Front.jpeg
ORGANIZER;CN="DHO President - Sarah Hoyle":MAILTO:president@downhillonly.com
END:VEVENT
END:VCALENDAR