BEGIN:VCALENDAR
VERSION:2.0
PRODID:-//Downhill Only Ski Club - ECPv6.15.20//NONSGML v1.0//EN
CALSCALE:GREGORIAN
METHOD:PUBLISH
X-WR-CALNAME:Downhill Only Ski Club
X-ORIGINAL-URL:https://downhillonly.com
X-WR-CALDESC:Events for Downhill Only Ski Club
REFRESH-INTERVAL;VALUE=DURATION:PT1H
X-Robots-Tag:noindex
X-PUBLISHED-TTL:PT1H
BEGIN:VTIMEZONE
TZID:UTC
BEGIN:STANDARD
TZOFFSETFROM:+0000
TZOFFSETTO:+0000
TZNAME:UTC
DTSTART:20250101T000000
END:STANDARD
END:VTIMEZONE
BEGIN:VEVENT
DTSTART;TZID=UTC:20260101T083000
DTEND;TZID=UTC:20260101T160000
DTSTAMP:20260419T120729
CREATED:20241208T165729Z
LAST-MODIFIED:20250625T141805Z
UID:10002141-1767256200-1767283200@downhillonly.com
SUMMARY:Coggins New Year Race
DESCRIPTION:Each year Coggins do a New Year Race \nAndrew Davies to confirm beginning of week which piste is usable.
URL:https://downhillonly.com/event/coggins-new-year-race/
LOCATION:Mannlichen Cable Car\, Mannlichen Cable Car\, wengen\, 323\, Switzerland
CATEGORIES:DHO Coggins, Eagles & Performance Courses
ATTACH;FMTTYPE=image/jpeg:https://downhillonly.com/wp-content/uploads/2019/09/British-Schoolboys-International-Races-4-1.jpg
ORGANIZER;CN="Coggins%2C Eagles and Development Courses  Andrew Davies":MAILTO:coggins@downhillonly.com
END:VEVENT
END:VCALENDAR