BEGIN:VCALENDAR
VERSION:2.0
PRODID:-//Downhill Only Ski Club - ECPv6.15.20//NONSGML v1.0//EN
CALSCALE:GREGORIAN
METHOD:PUBLISH
X-ORIGINAL-URL:https://downhillonly.com
X-WR-CALDESC:Events for Downhill Only Ski Club
REFRESH-INTERVAL;VALUE=DURATION:PT1H
X-Robots-Tag:noindex
X-PUBLISHED-TTL:PT1H
BEGIN:VTIMEZONE
TZID:UTC
BEGIN:STANDARD
TZOFFSETFROM:+0000
TZOFFSETTO:+0000
TZNAME:UTC
DTSTART:20250101T000000
END:STANDARD
END:VTIMEZONE
BEGIN:VEVENT
DTSTART;TZID=UTC:20260115T084000
DTEND;TZID=UTC:20260115T160000
DTSTAMP:20260419T120751
CREATED:20250627T141656Z
LAST-MODIFIED:20250627T141656Z
UID:10003591-1768466400-1768492800@downhillonly.com
SUMMARY:Fun Event
DESCRIPTION:We try to run some sort of race or maybe a treasure hunt or other challenge on Thursdays check Wednesday night in the clubroom for details. At the Start and end of the season conditions might not be suitable for racing \nIf there’s no race then you will be able to ski with our DHO rep just like a normal day
URL:https://downhillonly.com/event/fun-event/2026-01-15/
LOCATION:Mannlichen Cable Car\, Mannlichen Cable Car\, wengen\, 323\, Switzerland
CATEGORIES:DHO Club Races,DHO Led Skiing
ATTACH;FMTTYPE=image/jpeg:https://downhillonly.com/wp-content/uploads/2019/08/Race-Thursday.jpg
END:VEVENT
END:VCALENDAR