BEGIN:VCALENDAR
VERSION:2.0
PRODID:-//Downhill Only Ski Club - ECPv6.15.20//NONSGML v1.0//EN
CALSCALE:GREGORIAN
METHOD:PUBLISH
X-ORIGINAL-URL:https://downhillonly.com
X-WR-CALDESC:Events for Downhill Only Ski Club
REFRESH-INTERVAL;VALUE=DURATION:PT1H
X-Robots-Tag:noindex
X-PUBLISHED-TTL:PT1H
BEGIN:VTIMEZONE
TZID:UTC
BEGIN:STANDARD
TZOFFSETFROM:+0000
TZOFFSETTO:+0000
TZNAME:UTC
DTSTART:20250101T000000
END:STANDARD
END:VTIMEZONE
BEGIN:VEVENT
DTSTART;TZID=UTC:20260205T090000
DTEND;TZID=UTC:20260205T133000
DTSTAMP:20260422T115025
CREATED:20241212T155333Z
LAST-MODIFIED:20250627T121927Z
UID:10002641-1770282000-1770298200@downhillonly.com
SUMMARY:McMillan Cup
DESCRIPTION:A Mass Start race from the Ladies downhill Hut on the Tschuggen Piste – where Piste 21 and Piste 11 meet subject to the run being in a good condition \nLunch can be had at the Aspen Restaurant just beyond the finish line \n  \n 
URL:https://downhillonly.com/event/mcmillan-cup/
LOCATION:Ladies Downhill Start Hut\, Ladies start hut\, Grindelwald\, Switzerland
CATEGORIES:DHO Club Races
ATTACH;FMTTYPE=image/jpeg:https://downhillonly.com/wp-content/uploads/2019/09/Ladies-Downhill-Start-Hut.jpg
GEO:46.604579;7.974928
X-APPLE-STRUCTURED-LOCATION;VALUE=URI;X-ADDRESS=Ladies Downhill Start Hut Ladies start hut Grindelwald Switzerland;X-APPLE-RADIUS=500;X-TITLE=Ladies start hut:geo:7.974928,46.604579
END:VEVENT
END:VCALENDAR