BEGIN:VCALENDAR
VERSION:2.0
PRODID:-//Downhill Only Ski Club - ECPv6.15.20//NONSGML v1.0//EN
CALSCALE:GREGORIAN
METHOD:PUBLISH
X-WR-CALNAME:Downhill Only Ski Club
X-ORIGINAL-URL:https://downhillonly.com
X-WR-CALDESC:Events for Downhill Only Ski Club
REFRESH-INTERVAL;VALUE=DURATION:PT1H
X-Robots-Tag:noindex
X-PUBLISHED-TTL:PT1H
BEGIN:VTIMEZONE
TZID:UTC
BEGIN:STANDARD
TZOFFSETFROM:+0000
TZOFFSETTO:+0000
TZNAME:UTC
DTSTART:20250101T000000
END:STANDARD
END:VTIMEZONE
BEGIN:VEVENT
DTSTART;TZID=UTC:20260312T084000
DTEND;TZID=UTC:20260312T160000
DTSTAMP:20260420T051918
CREATED:20241214T234845Z
LAST-MODIFIED:20250627T125055Z
UID:10003574-1773304800-1773331200@downhillonly.com
SUMMARY:Kurverein Crystal
DESCRIPTION:A Pairs race organised by Rolf Wegmuller of the tourist office \nCheck for details in the clubroom the night before
URL:https://downhillonly.com/event/kurverein-crystal/
LOCATION:Lauberhorn Start Hut & Bar\, Lauberhorn Start Haus\, Wengen\, 3823\, Switzerland
CATEGORIES:DHO Club Races
ATTACH;FMTTYPE=image/jpeg:https://downhillonly.com/wp-content/uploads/2019/09/British-Schoolboys-International-Races-4-1.jpg
END:VEVENT
BEGIN:VEVENT
DTSTART;VALUE=DATE:20260316
DTEND;VALUE=DATE:20260321
DTSTAMP:20260420T051918
CREATED:20250627T143114Z
LAST-MODIFIED:20251109T155519Z
UID:10003595-1773619200-1774051199@downhillonly.com
SUMMARY:AICC Lech
DESCRIPTION:AICC 2026 in Lech Austria\n\n\nIn 2026 the event will be hosted by the Arlberg Ski Club in Lech\, Austria during the week of March 16 with the races on March 19 and 20. The hosts are organising a whole week of training and events\, and it will be\, I am sure\, a wonderful week !\n\nLiz Moore
URL:https://downhillonly.com/event/aicc-lech/
LOCATION:Lech\, Lech\, Austria
CATEGORIES:DHO Club Races
ATTACH;FMTTYPE=image/jpeg:https://downhillonly.com/wp-content/uploads/2020/03/AICC-Group-Pic.jpg
ORGANIZER;CN="Liz Moore":MAILTO:liblabmoore@gmail.com
END:VEVENT
BEGIN:VEVENT
DTSTART;TZID=UTC:20260319T084000
DTEND;TZID=UTC:20260319T160000
DTSTAMP:20260420T051918
CREATED:20250627T141754Z
LAST-MODIFIED:20250627T141754Z
UID:10003592-1773909600-1773936000@downhillonly.com
SUMMARY:Fun Event
DESCRIPTION:We try to run some sort of race or maybe a treasure hunt or other challenge on Thursdays check Wednesday night in the clubroom for details. At the Start and end of the season conditions might not be suitable for racing \nIf there’s no race then you will be able to ski with our DHO rep just like a normal day
URL:https://downhillonly.com/event/fun-event-2/2026-03-19/
LOCATION:Mannlichen Cable Car\, Mannlichen Cable Car\, wengen\, 323\, Switzerland
CATEGORIES:DHO Club Races,DHO Led Skiing
ATTACH;FMTTYPE=image/jpeg:https://downhillonly.com/wp-content/uploads/2019/08/Race-Thursday.jpg
END:VEVENT
BEGIN:VEVENT
DTSTART;TZID=UTC:20260326T084000
DTEND;TZID=UTC:20260326T160000
DTSTAMP:20260420T051918
CREATED:20250627T141826Z
LAST-MODIFIED:20250627T141841Z
UID:10003593-1774514400-1774540800@downhillonly.com
SUMMARY:Fun Event
DESCRIPTION:We try to run some sort of race or maybe a treasure hunt or other challenge on Thursdays check Wednesday night in the clubroom for details. At the Start and end of the season conditions might not be suitable for racing \nIf there’s no race then you will be able to ski with our DHO rep just like a normal day
URL:https://downhillonly.com/event/fun-event-3/2026-03-26/
LOCATION:Mannlichen Cable Car\, Mannlichen Cable Car\, wengen\, 323\, Switzerland
CATEGORIES:DHO Club Races,DHO Led Skiing
ATTACH;FMTTYPE=image/jpeg:https://downhillonly.com/wp-content/uploads/2019/08/Race-Thursday.jpg
END:VEVENT
BEGIN:VEVENT
DTSTART;TZID=UTC:20260402T084000
DTEND;TZID=UTC:20260402T160000
DTSTAMP:20260420T051918
CREATED:20250627T142225Z
LAST-MODIFIED:20250627T142225Z
UID:10003594-1775119200-1775145600@downhillonly.com
SUMMARY:Season Closer
DESCRIPTION:Season Closer GS race will be held on the top of the Lauberhorn Race Track \nPlease check in the clubroom for further details the night before
URL:https://downhillonly.com/event/season-closer/
LOCATION:Lauberhorn Start Hut & Bar\, Lauberhorn Start Haus\, Wengen\, 3823\, Switzerland
CATEGORIES:DHO Club Races
ATTACH;FMTTYPE=image/jpeg:https://downhillonly.com/wp-content/uploads/2019/09/British-Schoolboys-International-Races-4-1.jpg
END:VEVENT
END:VCALENDAR