BEGIN:VCALENDAR
VERSION:2.0
PRODID:-//Downhill Only Ski Club - ECPv6.15.20//NONSGML v1.0//EN
CALSCALE:GREGORIAN
METHOD:PUBLISH
X-WR-CALNAME:Downhill Only Ski Club
X-ORIGINAL-URL:https://downhillonly.com
X-WR-CALDESC:Events for Downhill Only Ski Club
REFRESH-INTERVAL;VALUE=DURATION:PT1H
X-Robots-Tag:noindex
X-PUBLISHED-TTL:PT1H
BEGIN:VTIMEZONE
TZID:UTC
BEGIN:STANDARD
TZOFFSETFROM:+0000
TZOFFSETTO:+0000
TZNAME:UTC
DTSTART:20240101T000000
END:STANDARD
END:VTIMEZONE
BEGIN:VEVENT
DTSTART;TZID=UTC:20251115T110000
DTEND;TZID=UTC:20251115T123000
DTSTAMP:20260419T122256
CREATED:20250820T155736Z
LAST-MODIFIED:20251014T181708Z
UID:10003598-1763204400-1763209800@downhillonly.com
SUMMARY:DHO AGM
DESCRIPTION:The AGM will be held on Saturday\, 15th November\, at 11 am using ZOOM\, further details will be published in the Journal.
URL:https://downhillonly.com/event/dho-agm/
CATEGORIES:DHO Social
ORGANIZER;CN="DHO President - Sarah Hoyle":MAILTO:president@downhillonly.com
END:VEVENT
END:VCALENDAR