BEGIN:VCALENDAR
VERSION:2.0
PRODID:-//Downhill Only Ski Club - ECPv6.15.20//NONSGML v1.0//EN
CALSCALE:GREGORIAN
METHOD:PUBLISH
X-ORIGINAL-URL:https://downhillonly.com
X-WR-CALDESC:Events for Downhill Only Ski Club
REFRESH-INTERVAL;VALUE=DURATION:PT1H
X-Robots-Tag:noindex
X-PUBLISHED-TTL:PT1H
BEGIN:VTIMEZONE
TZID:UTC
BEGIN:STANDARD
TZOFFSETFROM:+0000
TZOFFSETTO:+0000
TZNAME:UTC
DTSTART:20240101T000000
END:STANDARD
END:VTIMEZONE
BEGIN:VEVENT
DTSTART;TZID=UTC:20251220T160000
DTEND;TZID=UTC:20251220T190000
DTSTAMP:20260417T212057
CREATED:20251208T152432Z
LAST-MODIFIED:20251219T153248Z
UID:10003599-1766246400-1766257200@downhillonly.com
SUMMARY:Glühweinfestival in Wengen on December 20th
DESCRIPTION:The DHO will have a stall near the Clubroom for the festival
URL:https://downhillonly.com/event/gluhweinfestival-in-wengen-on-december-20th/
LOCATION:Wengen Tourismus\, Wengen Tourist Office\, Wengen\, 3823\, Switzerland
ATTACH;FMTTYPE=image/jpeg:https://downhillonly.com/wp-content/uploads/2025/12/Gluhwein.jpg
ORGANIZER;CN="Wengen Tourismus":MAILTO:info@wengen.swiss
END:VEVENT
BEGIN:VEVENT
DTSTART;TZID=UTC:20251228T080000
DTEND;TZID=UTC:20251228T170000
DTSTAMP:20260417T212057
CREATED:20240628T143146Z
LAST-MODIFIED:20251023T200739Z
UID:10001875-1766908800-1766941200@downhillonly.com
SUMMARY:24/25 CUP
DESCRIPTION:The 24/25 Cup on Sunday 28th December will now be on our own home piste of the Lauberhorn. Murren could not accommodate that date on their pistes. The Kandahar are happy to come over to our side and our slope! But they are hosting\, with help from us! I pointed out they were victorious last year on our home piste\, so this year we will try our very best to be the victors! All those racers within the DHO \, please get in touch with me!
URL:https://downhillonly.com/event/24-25-cup/
LOCATION:Lauberhorn Start Hut & Bar\, Lauberhorn Start Haus\, Wengen\, 3823\, Switzerland
CATEGORIES:DHO Club Races
ATTACH;FMTTYPE=image/jpeg:https://downhillonly.com/wp-content/uploads/2019/09/British-Schoolboys-International-Races-4-1.jpg
ORGANIZER;CN="Liz Moore":MAILTO:liblabmoore@gmail.com
END:VEVENT
BEGIN:VEVENT
DTSTART;TZID=UTC:20251230T083000
DTEND;TZID=UTC:20251230T160000
DTSTAMP:20260417T212057
CREATED:20250625T141135Z
LAST-MODIFIED:20250702T202856Z
UID:10003587-1767083400-1767110400@downhillonly.com
SUMMARY:Heinz Cup Treasure Hunt
DESCRIPTION:Details to be confirmed\, \nMembers are asked to enter the races in advance by signing up in the clubroom  or contacting the leader at the present time.
URL:https://downhillonly.com/event/heinz-cup-treasure-hunt/
LOCATION:Mannlichen Cable Car\, Mannlichen Cable Car\, wengen\, 323\, Switzerland
CATEGORIES:DHO Club Races
ATTACH;FMTTYPE=image/jpeg:https://downhillonly.com/wp-content/uploads/2019/06/Carol-West-Racing-on-the-Mannlichen.jpg
END:VEVENT
END:VCALENDAR