BEGIN:VCALENDAR
VERSION:2.0
PRODID:-//Downhill Only Ski Club - ECPv6.15.20//NONSGML v1.0//EN
CALSCALE:GREGORIAN
METHOD:PUBLISH
X-ORIGINAL-URL:https://downhillonly.com
X-WR-CALDESC:Events for Downhill Only Ski Club
REFRESH-INTERVAL;VALUE=DURATION:PT1H
X-Robots-Tag:noindex
X-PUBLISHED-TTL:PT1H
BEGIN:VTIMEZONE
TZID:UTC
BEGIN:STANDARD
TZOFFSETFROM:+0000
TZOFFSETTO:+0000
TZNAME:UTC
DTSTART:20250101T000000
END:STANDARD
END:VTIMEZONE
BEGIN:VEVENT
DTSTART;TZID=UTC:20260101T083000
DTEND;TZID=UTC:20260101T160000
DTSTAMP:20260416T211811
CREATED:20241208T165729Z
LAST-MODIFIED:20250625T141805Z
UID:10002141-1767256200-1767283200@downhillonly.com
SUMMARY:Coggins New Year Race
DESCRIPTION:Each year Coggins do a New Year Race \nAndrew Davies to confirm beginning of week which piste is usable.
URL:https://downhillonly.com/event/coggins-new-year-race/
LOCATION:Mannlichen Cable Car\, Mannlichen Cable Car\, wengen\, 323\, Switzerland
CATEGORIES:DHO Coggins, Eagles & Performance Courses
ATTACH;FMTTYPE=image/jpeg:https://downhillonly.com/wp-content/uploads/2019/09/British-Schoolboys-International-Races-4-1.jpg
ORGANIZER;CN="Coggins%2C Eagles and Development Courses  Andrew Davies":MAILTO:coggins@downhillonly.com
END:VEVENT
BEGIN:VEVENT
DTSTART;TZID=UTC:20260108T083000
DTEND;TZID=UTC:20260108T160000
DTSTAMP:20260416T211811
CREATED:20250627T141348Z
LAST-MODIFIED:20250627T141348Z
UID:10003590-1767861000-1767888000@downhillonly.com
SUMMARY:Season opener
DESCRIPTION:Details to be confirmed\, \nMembers are asked to enter the races in advance by signing up in the clubroom  or contacting the leader at the present time.
URL:https://downhillonly.com/event/season-opener/
LOCATION:Mannlichen Cable Car\, Mannlichen Cable Car\, wengen\, 323\, Switzerland
CATEGORIES:DHO Club Races
ATTACH;FMTTYPE=image/jpeg:https://downhillonly.com/wp-content/uploads/2019/06/Carol-West-Racing-on-the-Mannlichen.jpg
END:VEVENT
BEGIN:VEVENT
DTSTART;TZID=UTC:20260115T084000
DTEND;TZID=UTC:20260115T160000
DTSTAMP:20260416T211811
CREATED:20250627T141656Z
LAST-MODIFIED:20250627T141656Z
UID:10003591-1768466400-1768492800@downhillonly.com
SUMMARY:Fun Event
DESCRIPTION:We try to run some sort of race or maybe a treasure hunt or other challenge on Thursdays check Wednesday night in the clubroom for details. At the Start and end of the season conditions might not be suitable for racing \nIf there’s no race then you will be able to ski with our DHO rep just like a normal day
URL:https://downhillonly.com/event/fun-event/2026-01-15/
LOCATION:Mannlichen Cable Car\, Mannlichen Cable Car\, wengen\, 323\, Switzerland
CATEGORIES:DHO Club Races,DHO Led Skiing
ATTACH;FMTTYPE=image/jpeg:https://downhillonly.com/wp-content/uploads/2019/08/Race-Thursday.jpg
END:VEVENT
BEGIN:VEVENT
DTSTART;TZID=UTC:20260123T084000
DTEND;TZID=UTC:20260123T160000
DTSTAMP:20260416T211811
CREATED:20241208T170410Z
LAST-MODIFIED:20250625T142137Z
UID:10002142-1769157600-1769184000@downhillonly.com
SUMMARY:Eastwood Trophy
DESCRIPTION:The Eastwood trophy is awarded for a Super G race on the Friday before the Inferno Races. It is an open race attracting K members and others. It is held on the top section of the  Lauberhorn WC course from start hut to above Hundskopf. \nPlease check in Club Room for start times and assembly point for the race
URL:https://downhillonly.com/event/eastwood-trophy/
LOCATION:Lauberhorn Start Hut & Bar\, Lauberhorn Start Haus\, Wengen\, 3823\, Switzerland
CATEGORIES:DHO Club Races
ATTACH;FMTTYPE=image/jpeg:https://downhillonly.com/wp-content/uploads/2019/09/British-Schoolboys-International-Races-4-1.jpg
ORGANIZER;CN="Liz Moore":MAILTO:liblabmoore@gmail.com
END:VEVENT
BEGIN:VEVENT
DTSTART;TZID=UTC:20260128T084000
DTEND;TZID=UTC:20260128T160000
DTSTAMP:20260416T211811
CREATED:20241213T100024Z
LAST-MODIFIED:20250627T121407Z
UID:10003565-1769589600-1769616000@downhillonly.com
SUMMARY:Odling Cup
DESCRIPTION:The Odling Cup a GS race will be held on the top of the Lauberhorn Race Track \nPlease check in the clubroom for further details the night before
URL:https://downhillonly.com/event/odling-cup/
LOCATION:Lauberhorn Start Hut & Bar\, Lauberhorn Start Haus\, Wengen\, 3823\, Switzerland
CATEGORIES:DHO Club Races
ATTACH;FMTTYPE=image/jpeg:https://downhillonly.com/wp-content/uploads/2019/09/British-Schoolboys-International-Races-4-1.jpg
END:VEVENT
END:VCALENDAR